BEGIN:VCALENDAR
VERSION:2.0
PRODID:-//Plone.org//NONSGML plone.app.event//EN
X-WR-TIMEZONE:Europe/Madrid
BEGIN:VEVENT
SUMMARY:Concierto por la Paz – NO a las guerras\, no al rearme
DTSTART;TZID=Europe/Madrid;VALUE=DATE-TIME:20251023T190000
DTEND;TZID=Europe/Madrid;VALUE=DATE-TIME:20251023T203000
DTSTAMP;VALUE=DATE-TIME:20260423T002430Z
UID:8aa91d1792ef4b3cb263e6a5681f038d@www.paeria.cat
CATEGORIES:Público,Cultura,Música,Adulto
CREATED;VALUE=DATE-TIME:20251017T074440Z
DESCRIPTION:La Plataforma Detenemos las Guerras\, con la colaboración de 
 la Concejalía de Cooperación del Ayuntamiento de Lleida y el Fòrum Cata
 là per la Pau\, organiza un concierto colectivo por la paz con la partici
 pación de más de 200 cantores de diferentes corales de la ciudad.
LAST-MODIFIED;VALUE=DATE-TIME:20251105T073205Z
URL:https://www.paeria.cat/es/actualidad/agenda/concierto-por-la-paz-2013-
 no-a-las-guerras-no-al-rearme
END:VEVENT
BEGIN:VTIMEZONE
TZID:Europe/Madrid
X-LIC-LOCATION:Europe/Madrid
BEGIN:DAYLIGHT
DTSTART;VALUE=DATE-TIME:20250330T030000
TZNAME:CEST
TZOFFSETFROM:+0100
TZOFFSETTO:+0200
END:DAYLIGHT
END:VTIMEZONE
END:VCALENDAR
