BEGIN:VCALENDAR
VERSION:2.0
PRODID:-//Plone.org//NONSGML plone.app.event//EN
X-WR-TIMEZONE:Europe/Madrid
BEGIN:VEVENT
SUMMARY:Concierto Salvat-Papasseit- Nada es mezquino
DTSTART;TZID=Europe/Madrid;VALUE=DATE-TIME:20241122T190000
DTSTAMP;VALUE=DATE-TIME:20260423T001607Z
UID:9fb136b65724464196dcdbbb8e51050c@www.paeria.cat
CATEGORIES:Cultura,Música
CREATED;VALUE=DATE-TIME:20241025T061020Z
LAST-MODIFIED;VALUE=DATE-TIME:20251105T073450Z
URL:https://www.paeria.cat/es/actualidad/agenda/concierto-salvat-papasseit
 -nada-es-mezquino
END:VEVENT
BEGIN:VTIMEZONE
TZID:Europe/Madrid
X-LIC-LOCATION:Europe/Madrid
BEGIN:STANDARD
DTSTART;VALUE=DATE-TIME:20241027T020000
TZNAME:CET
TZOFFSETFROM:+0200
TZOFFSETTO:+0100
END:STANDARD
END:VTIMEZONE
END:VCALENDAR
