BEGIN:VCALENDAR
VERSION:2.0
PRODID:-//Plone.org//NONSGML plone.app.event//EN
X-WR-TIMEZONE:Europe/Madrid
BEGIN:VEVENT
SUMMARY:Concierto Sandra Bautista
DTSTART;TZID=Europe/Madrid;VALUE=DATE-TIME:20241129T223000
DTSTAMP;VALUE=DATE-TIME:20260422T122902Z
UID:f0da8f7ed7b84c1dbdc0cbc0c1285267@www.paeria.cat
CATEGORIES:Música,Cultura
CREATED;VALUE=DATE-TIME:20241125T063011Z
LAST-MODIFIED;VALUE=DATE-TIME:20241125T063025Z
URL:https://www.paeria.cat/es/actualidad/agenda/concierto-sandra-bautista-
 1
END:VEVENT
BEGIN:VTIMEZONE
TZID:Europe/Madrid
X-LIC-LOCATION:Europe/Madrid
BEGIN:STANDARD
DTSTART;VALUE=DATE-TIME:20241027T020000
TZNAME:CET
TZOFFSETFROM:+0200
TZOFFSETTO:+0100
END:STANDARD
END:VTIMEZONE
END:VCALENDAR
