BEGIN:VCALENDAR
VERSION:2.0
PRODID:-//Plone.org//NONSGML plone.app.event//EN
X-WR-TIMEZONE:Europe/Madrid
BEGIN:VEVENT
SUMMARY:Concierto tributo a The Cure\, U2 & Depeche Mode
DTSTART;TZID=Europe/Madrid;VALUE=DATE-TIME:20241116T210000
DTSTAMP;VALUE=DATE-TIME:20260422T135626Z
UID:f12254d3019549be9a7e4b9694c284b6@www.paeria.cat
CATEGORIES:Música,Cultura
CREATED;VALUE=DATE-TIME:20240913T083332Z
LAST-MODIFIED;VALUE=DATE-TIME:20240913T083340Z
URL:https://www.paeria.cat/es/actualidad/agenda/concierto-tributo-a-the-cu
 re-u2-depeche-mode
END:VEVENT
BEGIN:VTIMEZONE
TZID:Europe/Madrid
X-LIC-LOCATION:Europe/Madrid
BEGIN:STANDARD
DTSTART;VALUE=DATE-TIME:20241027T020000
TZNAME:CET
TZOFFSETFROM:+0200
TZOFFSETTO:+0100
END:STANDARD
END:VTIMEZONE
END:VCALENDAR
