BEGIN:VCALENDAR
VERSION:2.0
PRODID:-//Plone.org//NONSGML plone.app.event//EN
X-WR-TIMEZONE:Europe/Madrid
BEGIN:VEVENT
SUMMARY:Concierto y encuentro solidario en beneficio de Fundació Lleida S
 olidaria
DTSTART;TZID=Europe/Madrid;VALUE=DATE-TIME:20240126T190000
DTEND;TZID=Europe/Madrid;VALUE=DATE-TIME:20240126T210000
DTSTAMP;VALUE=DATE-TIME:20260423T073034Z
UID:56061ae20b71414186552d18a314450c@www.paeria.cat
CATEGORIES:Ciudadanía,Música
CREATED;VALUE=DATE-TIME:20240112T132239Z
DESCRIPTION:Encuentro solidario y concierto con músicos burkinabesos\, pa
 ra conocer y apoyar proyectos de la Fundación Lleida Solidària. Espai Or
 feó Lleidatà Viernes 26 de enero a las 19:00h (C/ Sant Martí\, 60-62)
LAST-MODIFIED;VALUE=DATE-TIME:20250514T114738Z
URL:https://www.paeria.cat/es/actualidad/agenda/concierto-y-encuentro-soli
 dario-en-beneficio-de-fundacio-lleida-solidaria
END:VEVENT
BEGIN:VTIMEZONE
TZID:Europe/Madrid
X-LIC-LOCATION:Europe/Madrid
BEGIN:STANDARD
DTSTART;VALUE=DATE-TIME:20231029T020000
TZNAME:CET
TZOFFSETFROM:+0200
TZOFFSETTO:+0100
END:STANDARD
END:VTIMEZONE
END:VCALENDAR
