BEGIN:VCALENDAR
VERSION:2.0
PRODID:-//Plone.org//NONSGML plone.app.event//EN
X-WR-TIMEZONE:Europe/Madrid
BEGIN:VEVENT
SUMMARY:Conferencia- Fósiles\, las huellas de la vida
DTSTART;TZID=Europe/Madrid;VALUE=DATE-TIME:20240410T190000
DTSTAMP;VALUE=DATE-TIME:20260422T215007Z
UID:d0fe2987102f4fe7ac5a4b4371f4b94b@www.paeria.cat
CATEGORIES:Charlas y conferencias,Cultura
CREATED;VALUE=DATE-TIME:20240401T112649Z
LAST-MODIFIED;VALUE=DATE-TIME:20250514T114823Z
URL:https://www.paeria.cat/es/actualidad/agenda/conferencia-fosiles-las-hu
 ellas-de-la-vida
END:VEVENT
BEGIN:VTIMEZONE
TZID:Europe/Madrid
X-LIC-LOCATION:Europe/Madrid
BEGIN:DAYLIGHT
DTSTART;VALUE=DATE-TIME:20240331T030000
TZNAME:CEST
TZOFFSETFROM:+0100
TZOFFSETTO:+0200
END:DAYLIGHT
END:VTIMEZONE
END:VCALENDAR
