BEGIN:VCALENDAR
VERSION:2.0
PRODID:-//Plone.org//NONSGML plone.app.event//EN
X-WR-TIMEZONE:Europe/Madrid
BEGIN:VEVENT
SUMMARY:Conferencia- Inteligencia artificial: una gran oportunidad que req
 uiere de responsabilidad y ética
DTSTART;TZID=Europe/Madrid;VALUE=DATE-TIME:20240530T190000
DTSTAMP;VALUE=DATE-TIME:20260423T001801Z
UID:d79ff4eb47804f6ca2f2910e8389d55d@www.paeria.cat
CATEGORIES:Charlas y conferencias,Cultura
CREATED;VALUE=DATE-TIME:20240515T163318Z
LAST-MODIFIED;VALUE=DATE-TIME:20240515T163323Z
URL:https://www.paeria.cat/es/actualidad/agenda/conferencia-inteligencia-a
 rtificial-una-gran-oportunidad-que-requiere-de-responsabilidad-y-etica
END:VEVENT
BEGIN:VTIMEZONE
TZID:Europe/Madrid
X-LIC-LOCATION:Europe/Madrid
BEGIN:DAYLIGHT
DTSTART;VALUE=DATE-TIME:20240331T030000
TZNAME:CEST
TZOFFSETFROM:+0100
TZOFFSETTO:+0200
END:DAYLIGHT
END:VTIMEZONE
END:VCALENDAR
