BEGIN:VCALENDAR
VERSION:2.0
PRODID:-//Plone.org//NONSGML plone.app.event//EN
X-WR-TIMEZONE:Europe/Madrid
BEGIN:VEVENT
SUMMARY:Conferencia musicada- Liberté\, egalité\, fraternité. Beethoven
  y la revolución
DTSTART;TZID=Europe/Madrid;VALUE=DATE-TIME:20240418T190000
DTSTAMP;VALUE=DATE-TIME:20260422T201252Z
UID:5f212d2929d64b0d87f202bfd4bc491c@www.paeria.cat
CATEGORIES:Música,Charlas y conferencias,Cultura
CREATED;VALUE=DATE-TIME:20240313T080730Z
LAST-MODIFIED;VALUE=DATE-TIME:20240418T085934Z
URL:https://www.paeria.cat/es/actualidad/agenda/conferencia-musicada-liber
 te-egalite-fraternite-beethoven-y-la-revolucion
END:VEVENT
BEGIN:VTIMEZONE
TZID:Europe/Madrid
X-LIC-LOCATION:Europe/Madrid
BEGIN:DAYLIGHT
DTSTART;VALUE=DATE-TIME:20240331T030000
TZNAME:CEST
TZOFFSETFROM:+0100
TZOFFSETTO:+0200
END:DAYLIGHT
END:VTIMEZONE
END:VCALENDAR
