BEGIN:VCALENDAR
VERSION:2.0
PRODID:-//Plone.org//NONSGML plone.app.event//EN
X-WR-TIMEZONE:Europe/Madrid
BEGIN:VEVENT
SUMMARY:CONMEMORACIÓN 80º ANIVERSARIO DEL LIBERACIÓN DEL CAMPO DE CONCE
 NTRACIÓN DE MAUTHAUSEN
DTSTART;TZID=Europe/Madrid;VALUE=DATE-TIME:20250505T120000
DTSTAMP;VALUE=DATE-TIME:20260422T170626Z
UID:4a05f7a8b731430aaf9274132ece943a@www.paeria.cat
CATEGORIES:Todos los públicos
CREATED;VALUE=DATE-TIME:20250423T110523Z
DESCRIPTION:-OFRENDA FLORAL-
LAST-MODIFIED;VALUE=DATE-TIME:20250423T112916Z
URL:https://www.paeria.cat/es/actualidad/agenda/conmemoracion-80o-aniversa
 rio-del-liberacion-del-campo-de-concentracion-de-mauthausen
END:VEVENT
BEGIN:VTIMEZONE
TZID:Europe/Madrid
X-LIC-LOCATION:Europe/Madrid
BEGIN:DAYLIGHT
DTSTART;VALUE=DATE-TIME:20250330T030000
TZNAME:CEST
TZOFFSETFROM:+0100
TZOFFSETTO:+0200
END:DAYLIGHT
END:VTIMEZONE
END:VCALENDAR
