BEGIN:VCALENDAR
VERSION:2.0
PRODID:-//Plone.org//NONSGML plone.app.event//EN
X-WR-TIMEZONE:Europe/Madrid
BEGIN:VEVENT
SUMMARY:CONSPIRAR ES GRATIS: ¿POR QUÉ LAS TEORÍAS DE LA CONSPIRACIÓN N
 OS SEDUCEN?
DTSTART;TZID=Europe/Madrid;VALUE=DATE-TIME:20260324T190000
DTEND;TZID=Europe/Madrid;VALUE=DATE-TIME:20260324T203000
DTSTAMP;VALUE=DATE-TIME:20260423T002608Z
UID:ba63aa1fc3184932a519744a769076ea@www.paeria.cat
CREATED;VALUE=DATE-TIME:20260306T115350Z
DESCRIPTION:El Departamento de Derechos Civiles de la Paeria presenta una 
 nueva edición de los Debates de Memoria\, que tendrá lugar el martes 24 
 de marzo de 2026\, con la conferencia "Conspirar es gratis: ¿por qué las
  teorías de la conspiración nos seducen?"\, a cargo del profesor de la U
 niversidad Rey Juan Carlos de Madrid\, Luis Pablo Francescutti Pérez.
LAST-MODIFIED;VALUE=DATE-TIME:20260306T115402Z
URL:https://www.paeria.cat/es/actualidad/agenda/conspirar-es-gratis-por-qu
 e-las-teorias-de-la-conspiracion-nos-seducen
END:VEVENT
BEGIN:VTIMEZONE
TZID:Europe/Madrid
X-LIC-LOCATION:Europe/Madrid
BEGIN:STANDARD
DTSTART;VALUE=DATE-TIME:20251026T020000
TZNAME:CET
TZOFFSETFROM:+0200
TZOFFSETTO:+0100
END:STANDARD
END:VTIMEZONE
END:VCALENDAR
