BEGIN:VCALENDAR
VERSION:2.0
PRODID:-//Plone.org//NONSGML plone.app.event//EN
X-WR-TIMEZONE:Europe/Madrid
BEGIN:VEVENT
SUMMARY:Consultario online de Salut Jove: DESCUBRE LA ALIMENTACIÓN SALUDA
 BLE
DTSTART;TZID=Europe/Madrid;VALUE=DATE-TIME:20260209T180000
DTEND;TZID=Europe/Madrid;VALUE=DATE-TIME:20260209T190000
DTSTAMP;VALUE=DATE-TIME:20260422T135253Z
UID:2f0cf1a50494461a8735015c59f0b78e@www.paeria.cat
CATEGORIES:Salud,Charlas y conferencias,Jóvenes
CREATED;VALUE=DATE-TIME:20260204T151757Z
LAST-MODIFIED;VALUE=DATE-TIME:20260209T094708Z
URL:https://www.paeria.cat/es/actualidad/agenda/consultario-online-de-salu
 t-jove-descubre-la-alimentacion-saludable
END:VEVENT
BEGIN:VTIMEZONE
TZID:Europe/Madrid
X-LIC-LOCATION:Europe/Madrid
BEGIN:STANDARD
DTSTART;VALUE=DATE-TIME:20251026T020000
TZNAME:CET
TZOFFSETFROM:+0200
TZOFFSETTO:+0100
END:STANDARD
END:VTIMEZONE
END:VCALENDAR
