BEGIN:VCALENDAR
VERSION:2.0
PRODID:-//Plone.org//NONSGML plone.app.event//EN
X-WR-TIMEZONE:Europe/Madrid
BEGIN:VEVENT
SUMMARY:Conversación abierta alrededor de la obra- Olor a hormiga
DTSTART;TZID=Europe/Madrid;VALUE=DATE-TIME:20241018T183000
DTSTAMP;VALUE=DATE-TIME:20260420T225357Z
UID:9eee95b025164fa88cca27d7c730d11e@www.paeria.cat
CATEGORIES:Libros y literatura,Cultura
CREATED;VALUE=DATE-TIME:20241014T094036Z
LAST-MODIFIED;VALUE=DATE-TIME:20250514T132318Z
URL:https://www.paeria.cat/es/actualidad/agenda/conversacion-abierta-alred
 edor-de-la-obra-olor-a-hormiga
END:VEVENT
BEGIN:VTIMEZONE
TZID:Europe/Madrid
X-LIC-LOCATION:Europe/Madrid
BEGIN:DAYLIGHT
DTSTART;VALUE=DATE-TIME:20240331T030000
TZNAME:CEST
TZOFFSETFROM:+0100
TZOFFSETTO:+0200
END:DAYLIGHT
END:VTIMEZONE
END:VCALENDAR
