BEGIN:VCALENDAR
VERSION:2.0
PRODID:-//Plone.org//NONSGML plone.app.event//EN
X-WR-TIMEZONE:Europe/Madrid
BEGIN:VEVENT
SUMMARY:CRISIS POLÍTICA Y ESTADO JUDICIAL EN ESPAÑA
DTSTART;TZID=Europe/Madrid;VALUE=DATE-TIME:20251010T190000
DTSTAMP;VALUE=DATE-TIME:20260422T095343Z
UID:9504ad0b8c8741308d56b8c4786b3fb4@www.paeria.cat
CATEGORIES:Charlas y conferencias
CREATED;VALUE=DATE-TIME:20250919T091826Z
DESCRIPTION:DEBATES DE MEMORIA
LAST-MODIFIED;VALUE=DATE-TIME:20250919T091831Z
URL:https://www.paeria.cat/es/actualidad/agenda/crisis-politica-y-estado-j
 udicial-en-espana
END:VEVENT
BEGIN:VTIMEZONE
TZID:Europe/Madrid
X-LIC-LOCATION:Europe/Madrid
BEGIN:DAYLIGHT
DTSTART;VALUE=DATE-TIME:20250330T030000
TZNAME:CEST
TZOFFSETFROM:+0100
TZOFFSETTO:+0200
END:DAYLIGHT
END:VTIMEZONE
END:VCALENDAR
