BEGIN:VCALENDAR
VERSION:2.0
PRODID:-//Plone.org//NONSGML plone.app.event//EN
X-WR-TIMEZONE:Europe/Madrid
BEGIN:VEVENT
SUMMARY:Cuentacuentos basado en “El Gancho del Capitán Garfio” dentro
  del ciclo LETRAS: Punto de encuentro
DTSTART;TZID=Europe/Madrid;VALUE=DATE-TIME:20221217T170000
DTSTAMP;VALUE=DATE-TIME:20260422T170058Z
UID:c59d0ae9cc6142df8228fa33898e4f77@www.paeria.cat
CATEGORIES:Infantil,Libros y literatura,Público
CREATED;VALUE=DATE-TIME:20221214T081420Z
DESCRIPTION:A cargo de "Vivim del Cuentu" y Librería "El Genet Blau".
LAST-MODIFIED;VALUE=DATE-TIME:20250514T132243Z
URL:https://www.paeria.cat/es/actualidad/agenda/cuentacuentos-basado-en-el
 -gancho-del-capitan-garfio-dentro-del-ciclo-letras-punto-de-encuentro
END:VEVENT
BEGIN:VTIMEZONE
TZID:Europe/Madrid
X-LIC-LOCATION:Europe/Madrid
BEGIN:STANDARD
DTSTART;VALUE=DATE-TIME:20221030T020000
TZNAME:CET
TZOFFSETFROM:+0200
TZOFFSETTO:+0100
END:STANDARD
END:VTIMEZONE
END:VCALENDAR
