BEGIN:VCALENDAR
VERSION:2.0
PRODID:-//Plone.org//NONSGML plone.app.event//EN
X-WR-TIMEZONE:Europe/Madrid
BEGIN:VEVENT
SUMMARY:Curso en iniciación al Enfoque de Género y basado en Derechos Hu
 manos
DTSTART;TZID=Europe/Madrid;VALUE=DATE-TIME:20240304T170000
DTEND;TZID=Europe/Madrid;VALUE=DATE-TIME:20240306T200000
DTSTAMP;VALUE=DATE-TIME:20260423T073036Z
UID:405aaca797714b40af5cb059ab5593e5@www.paeria.cat
CATEGORIES:Ciudadanía,Talleres y cursos
CREATED;VALUE=DATE-TIME:20240221T134304Z
DESCRIPTION:Desde la Coordinadora de ONGD y aMS de Lleida\, la Unidad de D
 esarrollo y Cooperación de la UdL y la Concejalía de Cooperación del Ay
 untamiento de Lleida se organiza y oferta el curso "Iniciación al Enfoque
  de Género y basado en Derechos Humanos"\, una formación dirigida a enti
 dades para iniciarse en el conocimiento del EGiBDH y poder aplicarlo en lo
 s proyectos en defensa de los DH y los DHD. Curso en formato presencial co
 n confirmación de asistencia a cooperacio@paeria.cat o llamando al teléf
 ono 973 700 457. Fecha y hora: 4 y 6 de marzo de 2024\, de 17h a 20h. Luga
 r: Centro Cívico del Centro Histórico. Sala 2 y 3 (Pl. La Ereta\, 10)
LAST-MODIFIED;VALUE=DATE-TIME:20240304T101952Z
URL:https://www.paeria.cat/es/actualidad/agenda/curso-en-iniciacion-al-enf
 oque-de-genero-y-basado-en-derechos-humanos
END:VEVENT
BEGIN:VTIMEZONE
TZID:Europe/Madrid
X-LIC-LOCATION:Europe/Madrid
BEGIN:STANDARD
DTSTART;VALUE=DATE-TIME:20231029T020000
TZNAME:CET
TZOFFSETFROM:+0200
TZOFFSETTO:+0100
END:STANDARD
END:VTIMEZONE
END:VCALENDAR
