BEGIN:VCALENDAR
VERSION:2.0
PRODID:-//Plone.org//NONSGML plone.app.event//EN
X-WR-TIMEZONE:Europe/Madrid
BEGIN:VEVENT
SUMMARY:Danza y música: "Female Empowerment dance Mix" y actuación de It
 sasgorak - Cinemón 2023
DTSTART;TZID=Europe/Madrid;VALUE=DATE-TIME:20230708T193000
DTEND;TZID=Europe/Madrid;VALUE=DATE-TIME:20230708T210000
DTSTAMP;VALUE=DATE-TIME:20260422T190620Z
UID:7af204ce769849749af134a6acf2ccd7@www.paeria.cat
CATEGORIES:Mujer,Música,Ciudadanía,Danza,Todos los públicos
CREATED;VALUE=DATE-TIME:20230628T124454Z
DESCRIPTION:A las 19:30h espacio de danza con “Female Empowerment Dance 
 Mix”\, a cargo de KevinWeen13. Mix de bailes con mucha fuerza de cancion
 es pop urbanas de mujeres reconocidas mundialmente. A las 20:00h espacio m
 usical con Itsasgorak\, cantautora de las Terres de Ponent. Plantea un via
 je por las escrituras que nos definen\, hace simbiosis con las melodías i
 nternas que compone para dibujar un ojo crítico en cada oreja que le escu
 cha. Lugar\, fecha y hora: Plaza San Francisco. Sábado 8 de julio\, a las
  19:30h Para más información cooperacio.paeria.cat/cinemon
LAST-MODIFIED;VALUE=DATE-TIME:20250514T114703Z
URL:https://www.paeria.cat/es/actualidad/agenda/danza-y-musica-female-empo
 werment-dance-mix-y-actuacion-de-itsasgorak-cinemon-2023
END:VEVENT
BEGIN:VTIMEZONE
TZID:Europe/Madrid
X-LIC-LOCATION:Europe/Madrid
BEGIN:DAYLIGHT
DTSTART;VALUE=DATE-TIME:20230326T030000
TZNAME:CEST
TZOFFSETFROM:+0100
TZOFFSETTO:+0200
END:DAYLIGHT
END:VTIMEZONE
END:VCALENDAR
