BEGIN:VCALENDAR
VERSION:2.0
PRODID:-//Plone.org//NONSGML plone.app.event//EN
X-WR-TIMEZONE:Europe/Madrid
BEGIN:VEVENT
SUMMARY:DESENTERRANDO LA REPRESIÓN DE GÉNERO: LA VIOLENCIA EJERCIDA SOBR
 E LAS MUJERES DURANTE LA GUERRA CIVIL Y LA DICTADURA FRANQUISTA EN ESPAÑA
 .
DTSTART;TZID=Europe/Madrid;VALUE=DATE-TIME:20240229T190000
DTSTAMP;VALUE=DATE-TIME:20260422T140240Z
UID:9268383acd854717b40e3c1094df6524@www.paeria.cat
CREATED;VALUE=DATE-TIME:20240226T082932Z
DESCRIPTION:DEBATES DE MEMORIA
LAST-MODIFIED;VALUE=DATE-TIME:20240226T082947Z
URL:https://www.paeria.cat/es/actualidad/agenda/desenterrando-la-represion
 -de-genero-la-violencia-ejercida-sobre-las-mujeres-durante-la-guerra-civil
 -y-la-dictadura-franquista-en-espana
END:VEVENT
BEGIN:VTIMEZONE
TZID:Europe/Madrid
X-LIC-LOCATION:Europe/Madrid
BEGIN:STANDARD
DTSTART;VALUE=DATE-TIME:20231029T020000
TZNAME:CET
TZOFFSETFROM:+0200
TZOFFSETTO:+0100
END:STANDARD
END:VTIMEZONE
END:VCALENDAR
