BEGIN:VCALENDAR
VERSION:2.0
PRODID:-//Plone.org//NONSGML plone.app.event//EN
X-WR-TIMEZONE:Europe/Madrid
BEGIN:VEVENT
SUMMARY:Desmontando el racismo: Recorrido histórico e implicaciones actua
 les
DTSTART;TZID=Europe/Madrid;VALUE=DATE-TIME:20250221T180000
DTEND;TZID=Europe/Madrid;VALUE=DATE-TIME:20250530T200000
DTSTAMP;VALUE=DATE-TIME:20260422T200220Z
UID:5b4bc4471303498f827e4e5377f7e3e6@www.paeria.cat
CATEGORIES:Ciudadanía,Charlas y conferencias
CREATED;VALUE=DATE-TIME:20250217T085652Z
DESCRIPTION:El objetivo principal del Seminario es promover una conciencia
  crítica en relación con el racismo antinegro en la sociedad catalana\, 
 a partir de la difusión y el acceso democrático al conocimiento a partir
  de diversos referentes en la temática. Las 6 sesiones del seminario (Dí
 as: 21 febrero\, 14 marzo\, 28 marzo\, 11 abril\, 16 mayo\, 30 mayo) conta
 rán con ponencias de especialistas de diferentes disciplinas que nos expl
 icarán cuáles han sido las relaciones históricas entre Cataluña y Áfr
 ica y cómo a lo largo de los siglos se ha ido construyendo un racismo ant
 inegro.
LAST-MODIFIED;VALUE=DATE-TIME:20250509T115847Z
URL:https://www.paeria.cat/es/actualidad/agenda/desmontando-el-racismo-rec
 orrido-historico-e-implicaciones-actuales
END:VEVENT
BEGIN:VTIMEZONE
TZID:Europe/Madrid
X-LIC-LOCATION:Europe/Madrid
BEGIN:STANDARD
DTSTART;VALUE=DATE-TIME:20241027T020000
TZNAME:CET
TZOFFSETFROM:+0200
TZOFFSETTO:+0100
END:STANDARD
BEGIN:DAYLIGHT
DTSTART;VALUE=DATE-TIME:20250330T030000
TZNAME:CEST
TZOFFSETFROM:+0100
TZOFFSETTO:+0200
END:DAYLIGHT
END:VTIMEZONE
END:VCALENDAR
