BEGIN:VCALENDAR
VERSION:2.0
PRODID:-//Plone.org//NONSGML plone.app.event//EN
X-WR-TIMEZONE:Europe/Madrid
BEGIN:VEVENT
SUMMARY:DÍA INTERNACIONAL DE LA LENGUA MATERNA “ANTIRACISMO”
DTSTART;TZID=Europe/Madrid;VALUE=DATE-TIME:20250226T180000
DTSTAMP;VALUE=DATE-TIME:20260422T215208Z
UID:c057d253514843d9825060e81d40ed18@www.paeria.cat
CATEGORIES:Todos los públicos
CREATED;VALUE=DATE-TIME:20250221T115617Z
DESCRIPTION:Servicio de Acogida Municipal (SAM)
LAST-MODIFIED;VALUE=DATE-TIME:20250221T115628Z
URL:https://www.paeria.cat/es/actualidad/agenda/dia-internacional-de-la-le
 ngua-materna-201cantiracismo201d
END:VEVENT
BEGIN:VTIMEZONE
TZID:Europe/Madrid
X-LIC-LOCATION:Europe/Madrid
BEGIN:STANDARD
DTSTART;VALUE=DATE-TIME:20241027T020000
TZNAME:CET
TZOFFSETFROM:+0200
TZOFFSETTO:+0100
END:STANDARD
END:VTIMEZONE
END:VCALENDAR
