BEGIN:VCALENDAR
VERSION:2.0
PRODID:-//Plone.org//NONSGML plone.app.event//EN
X-WR-TIMEZONE:Europe/Madrid
BEGIN:VEVENT
SUMMARY:Día Internacional de los Jardines Botánicos en el Arboreto
DTSTART;TZID=Europe/Madrid;VALUE=DATE-TIME:20241011T090000
DTSTAMP;VALUE=DATE-TIME:20260422T215019Z
UID:8bae6babbabc4534af887215470266ae@www.paeria.cat
RRULE:FREQ=DAILY;UNTIL=20241013T000000
CATEGORIES:Talleres y cursos,Cultura,Música,Itinerarios y visitas
CREATED;VALUE=DATE-TIME:20241007T181304Z
LAST-MODIFIED;VALUE=DATE-TIME:20251105T074501Z
URL:https://www.paeria.cat/es/actualidad/agenda/dia-internacional-de-los-j
 ardines-botanicos-en-el-arboreto
END:VEVENT
BEGIN:VTIMEZONE
TZID:Europe/Madrid
X-LIC-LOCATION:Europe/Madrid
BEGIN:DAYLIGHT
DTSTART;VALUE=DATE-TIME:20240331T030000
TZNAME:CEST
TZOFFSETFROM:+0100
TZOFFSETTO:+0200
END:DAYLIGHT
END:VTIMEZONE
END:VCALENDAR
