BEGIN:VCALENDAR
VERSION:2.0
PRODID:-//Plone.org//NONSGML plone.app.event//EN
X-WR-TIMEZONE:Europe/Madrid
BEGIN:VEVENT
SUMMARY:DÍA MUNDIAL DE LA POESÍA - FESTIVAL POESÍA
DTSTART;TZID=Europe/Madrid;VALUE=DATE-TIME:20250321T100000
DTEND;TZID=Europe/Madrid;VALUE=DATE-TIME:20250321T220000
DTSTAMP;VALUE=DATE-TIME:20260422T191245Z
UID:0f37cc43cd8941f88168008b80d3ce65@www.paeria.cat
CATEGORIES:Libros y literatura
CREATED;VALUE=DATE-TIME:20250225T141003Z
DESCRIPTION:El festival es un espacio de encuentro que acoge a poetas y ar
 tistas de casa y foráneos\, que nos visitan y nos regalan sabiduría y ta
 lento creador a través de sus versos y de propuestas diversas dentro de l
 os lenguajes múltiples de la cultura\, algunos más clásicos\, otros má
 s rompedores. Más de una quincena de profesionales de la creación poéti
 ca y artística\, a los que se suman colectivos de la ciudad que aman la p
 oesía y hacen bandera\, llenan este año un programa literario que se des
 plegará del 18 al 23 de marzo en varios espacios.
LAST-MODIFIED;VALUE=DATE-TIME:20250317T085202Z
URL:https://www.paeria.cat/es/actualidad/agenda/dia-mundial-de-la-poesia-f
 estival-poesia
END:VEVENT
BEGIN:VTIMEZONE
TZID:Europe/Madrid
X-LIC-LOCATION:Europe/Madrid
BEGIN:STANDARD
DTSTART;VALUE=DATE-TIME:20241027T020000
TZNAME:CET
TZOFFSETFROM:+0200
TZOFFSETTO:+0100
END:STANDARD
END:VTIMEZONE
END:VCALENDAR
