BEGIN:VCALENDAR
VERSION:2.0
PRODID:-//Plone.org//NONSGML plone.app.event//EN
X-WR-TIMEZONE:Europe/Madrid
BEGIN:VEVENT
SUMMARY:Disbarats a la romana con Magraners en Escena
DTSTART;TZID=Europe/Madrid;VALUE=DATE-TIME:20241020T190000
DTEND;TZID=Europe/Madrid;VALUE=DATE-TIME:20241020T200000
DTSTAMP;VALUE=DATE-TIME:20260423T070702Z
UID:None
CREATED;VALUE=DATE-TIME:20240719T101447Z
DESCRIPTION:31a Muestra de Artes Escénicas Josep Fonollosa
LAST-MODIFIED;VALUE=DATE-TIME:20240726T132819Z
URL:https://www.paeria.cat/es/actualidad/agenda/disparates-a-la-romana-con
 -magraners-en-escena
END:VEVENT
BEGIN:VTIMEZONE
TZID:Europe/Madrid
X-LIC-LOCATION:Europe/Madrid
BEGIN:DAYLIGHT
DTSTART;VALUE=DATE-TIME:20240331T030000
TZNAME:CEST
TZOFFSETFROM:+0100
TZOFFSETTO:+0200
END:DAYLIGHT
END:VTIMEZONE
END:VCALENDAR
