BEGIN:VCALENDAR
VERSION:2.0
PRODID:-//Plone.org//NONSGML plone.app.event//EN
X-WR-TIMEZONE:Europe/Madrid
BEGIN:VEVENT
SUMMARY:El camino que hace el agua de casa al río
DTSTART;TZID=Europe/Madrid;VALUE=DATE-TIME:20231112T110000
DTEND;TZID=Europe/Madrid;VALUE=DATE-TIME:20231112T130000
DTSTAMP;VALUE=DATE-TIME:20260423T130520Z
UID:d6539ca1a26f4ae49929e3a6563a9460@www.paeria.cat
CREATED;VALUE=DATE-TIME:20230829T115010Z
DESCRIPTION:Ecoactividades 2023
LAST-MODIFIED;VALUE=DATE-TIME:20230829T115112Z
URL:https://www.paeria.cat/es/actualidad/agenda/ecodescubierta-el-camino-q
 ue-hace-el-agua-de-casa-en-el-rio
END:VEVENT
BEGIN:VTIMEZONE
TZID:Europe/Madrid
X-LIC-LOCATION:Europe/Madrid
BEGIN:STANDARD
DTSTART;VALUE=DATE-TIME:20231029T020000
TZNAME:CET
TZOFFSETFROM:+0200
TZOFFSETTO:+0100
END:STANDARD
END:VTIMEZONE
END:VCALENDAR
