BEGIN:VCALENDAR
VERSION:2.0
PRODID:-//Plone.org//NONSGML plone.app.event//EN
X-WR-TIMEZONE:Europe/Madrid
BEGIN:VEVENT
SUMMARY:Ecodescubierta. El verde de la ciudad: de la Seu Vella a los Camps
  Elisis
DTSTART;TZID=Europe/Madrid;VALUE=DATE-TIME:20230521T100000
DTEND;TZID=Europe/Madrid;VALUE=DATE-TIME:20230521T120000
DTSTAMP;VALUE=DATE-TIME:20260422T081348Z
UID:499467c912014ae79be286c1a95fb94c@www.paeria.cat
CATEGORIES:Itinerarios y visitas
CREATED;VALUE=DATE-TIME:20230425T113841Z
DESCRIPTION:Ecoactividades 2023
LAST-MODIFIED;VALUE=DATE-TIME:20230425T113854Z
URL:https://www.paeria.cat/es/actualidad/agenda/ecodescubierta-el-verde-de
 -la-ciudad-de-la-seu-vella-a-los-camps-elisis
END:VEVENT
BEGIN:VTIMEZONE
TZID:Europe/Madrid
X-LIC-LOCATION:Europe/Madrid
BEGIN:DAYLIGHT
DTSTART;VALUE=DATE-TIME:20230326T030000
TZNAME:CEST
TZOFFSETFROM:+0100
TZOFFSETTO:+0200
END:DAYLIGHT
END:VTIMEZONE
END:VCALENDAR
