BEGIN:VCALENDAR
VERSION:2.0
PRODID:-//Plone.org//NONSGML plone.app.event//EN
X-WR-TIMEZONE:Europe/Madrid
BEGIN:VEVENT
SUMMARY:Ecodescubierta Los Humedales de Rufea
DTSTART;TZID=Europe/Madrid;VALUE=DATE-TIME:20251004T100000
DTEND;TZID=Europe/Madrid;VALUE=DATE-TIME:20251004T123000
DTSTAMP;VALUE=DATE-TIME:20260421T040613Z
UID:b7a043b1d817429782c93cd37b8de58c@www.paeria.cat
CATEGORIES:Todos los públicos
CREATED;VALUE=DATE-TIME:20250818T103418Z
DESCRIPTION:Ecoactividades 2025
LAST-MODIFIED;VALUE=DATE-TIME:20250930T090434Z
URL:https://www.paeria.cat/es/actualidad/agenda/ecodescubierta-los-humedal
 es-de-rufea
END:VEVENT
BEGIN:VTIMEZONE
TZID:Europe/Madrid
X-LIC-LOCATION:Europe/Madrid
BEGIN:DAYLIGHT
DTSTART;VALUE=DATE-TIME:20250330T030000
TZNAME:CEST
TZOFFSETFROM:+0100
TZOFFSETTO:+0200
END:DAYLIGHT
END:VTIMEZONE
END:VCALENDAR
