BEGIN:VCALENDAR
VERSION:2.0
PRODID:-//Plone.org//NONSGML plone.app.event//EN
X-WR-TIMEZONE:Europe/Madrid
BEGIN:VEVENT
SUMMARY:El café nou de la granota amb l'Associació Grup d'Assaig la Merc
 è
DTSTART;TZID=Europe/Madrid;VALUE=DATE-TIME:20241010T190000
DTEND;TZID=Europe/Madrid;VALUE=DATE-TIME:20241010T200000
DTSTAMP;VALUE=DATE-TIME:20260422T134505Z
UID:1bd385ca588548c4b1cb77a575222713@www.paeria.cat
CREATED;VALUE=DATE-TIME:20240719T093058Z
DESCRIPTION:31a Muestra de Artes Escénicas Josep Fonollosa
LAST-MODIFIED;VALUE=DATE-TIME:20240726T132706Z
URL:https://www.paeria.cat/es/actualidad/agenda/el-cafe-nou-de-la-granota-
 con-la-asociacion-grupo-de-ensayo-la-merced
END:VEVENT
BEGIN:VTIMEZONE
TZID:Europe/Madrid
X-LIC-LOCATION:Europe/Madrid
BEGIN:DAYLIGHT
DTSTART;VALUE=DATE-TIME:20240331T030000
TZNAME:CEST
TZOFFSETFROM:+0100
TZOFFSETTO:+0200
END:DAYLIGHT
END:VTIMEZONE
END:VCALENDAR
