BEGIN:VCALENDAR
VERSION:2.0
PRODID:-//Plone.org//NONSGML plone.app.event//EN
X-WR-TIMEZONE:Europe/Madrid
BEGIN:VEVENT
SUMMARY:EL DOBLE DE BRAHMS. DAISHIN KASHIMOTO\, ALEXANDER CHAUSHIAN & FRAN
 Z SCHUBERT FILHARMONIA
DTSTART;TZID=Europe/Madrid;VALUE=DATE-TIME:20250221T200000
DTEND;TZID=Europe/Madrid;VALUE=DATE-TIME:20250221T220000
DTSTAMP;VALUE=DATE-TIME:20260422T150644Z
UID:7bd9b0ad7d6240239ea5ecf7f42debdc@www.paeria.cat
CREATED;VALUE=DATE-TIME:20241129T082551Z
DESCRIPTION:Daishin Kashimoto\, violín. Alexander Chaushian\, violonchelo
 . Franz Schubert Filarmonía. Tomàs Grau\, director
LAST-MODIFIED;VALUE=DATE-TIME:20241129T082838Z
URL:https://www.paeria.cat/es/actualidad/agenda/el-doble-de-brahms-daishin
 -kashimoto-alejander-chaushian-franz-schubert-filarmonia
END:VEVENT
BEGIN:VTIMEZONE
TZID:Europe/Madrid
X-LIC-LOCATION:Europe/Madrid
BEGIN:STANDARD
DTSTART;VALUE=DATE-TIME:20241027T020000
TZNAME:CET
TZOFFSETFROM:+0200
TZOFFSETTO:+0100
END:STANDARD
END:VTIMEZONE
END:VCALENDAR
