BEGIN:VCALENDAR
VERSION:2.0
PRODID:-//Plone.org//NONSGML plone.app.event//EN
X-WR-TIMEZONE:Europe/Madrid
BEGIN:VEVENT
SUMMARY:EL ORIGEN IGNORADO DEL FASCISMO ESPAÑOL: DE LA HABANA COLONIAL EN
  LA BARCELONA DEL PISTOLERISMO
DTSTART;TZID=Europe/Madrid;VALUE=DATE-TIME:20250319T190000
DTSTAMP;VALUE=DATE-TIME:20260422T201901Z
UID:ef5ae9b443d1446ab348346570813ab6@www.paeria.cat
CATEGORIES:Charlas y conferencias
CREATED;VALUE=DATE-TIME:20250303T120351Z
DESCRIPTION:-DEBATES DE MEMORIA-
LAST-MODIFIED;VALUE=DATE-TIME:20250303T120400Z
URL:https://www.paeria.cat/es/actualidad/agenda/el-origen-ignorado-del-fas
 cismo-espanol-de-la-habana-colonial-en-la-barcelona-del-pistolerismo
END:VEVENT
BEGIN:VTIMEZONE
TZID:Europe/Madrid
X-LIC-LOCATION:Europe/Madrid
BEGIN:STANDARD
DTSTART;VALUE=DATE-TIME:20241027T020000
TZNAME:CET
TZOFFSETFROM:+0200
TZOFFSETTO:+0100
END:STANDARD
END:VTIMEZONE
END:VCALENDAR
