BEGIN:VCALENDAR
VERSION:2.0
PRODID:-//Plone.org//NONSGML plone.app.event//EN
X-WR-TIMEZONE:Europe/Madrid
BEGIN:VEVENT
SUMMARY:¡El Pot Petit en concierto para AFANOC!   ENTRADAS AGOTADAS
DTSTART;TZID=Europe/Madrid;VALUE=DATE-TIME:20231202T170000
DTEND;TZID=Europe/Madrid;VALUE=DATE-TIME:20231202T181000
DTSTAMP;VALUE=DATE-TIME:20260419T221542Z
UID:517ffa5bee4f4690acb48891bbf7f633@www.paeria.cat
CATEGORIES:Todos los públicos,Música,Familiar,Cultura
CREATED;VALUE=DATE-TIME:20230717T104850Z
DESCRIPTION:FIESTA ANIMAL. ¡El concierto de El Pot Petit nunca es un conc
 ierto cualquiera! Pero éste será aún más especial porque continuaremos
  celebrando los 10 años de AFANOC en Lleida
LAST-MODIFIED;VALUE=DATE-TIME:20260202T125741Z
URL:https://www.paeria.cat/es/actualidad/agenda/el-pot-petit-en-concierto-
 para-afanoc
END:VEVENT
BEGIN:VTIMEZONE
TZID:Europe/Madrid
X-LIC-LOCATION:Europe/Madrid
BEGIN:STANDARD
DTSTART;VALUE=DATE-TIME:20231029T020000
TZNAME:CET
TZOFFSETFROM:+0200
TZOFFSETTO:+0100
END:STANDARD
END:VTIMEZONE
END:VCALENDAR
