BEGIN:VCALENDAR
VERSION:2.0
PRODID:-//Plone.org//NONSGML plone.app.event//EN
X-WR-TIMEZONE:Europe/Madrid
BEGIN:VEVENT
SUMMARY:EN RIENDA SUELTA. CIA DU'K'TO
DTSTART;TZID=Europe/Madrid;VALUE=DATE-TIME:20240703T200000
DTEND;TZID=Europe/Madrid;VALUE=DATE-TIME:20240703T210000
DTSTAMP;VALUE=DATE-TIME:20260420T050917Z
UID:732aacd2a9d546879f86dfbadd3f19b9@www.paeria.cat
CATEGORIES:Cultura
CREATED;VALUE=DATE-TIME:20240516T150145Z
LAST-MODIFIED;VALUE=DATE-TIME:20251105T072917Z
URL:https://www.paeria.cat/es/actualidad/agenda/en-rienda-suelta-cia-dukto
END:VEVENT
BEGIN:VTIMEZONE
TZID:Europe/Madrid
X-LIC-LOCATION:Europe/Madrid
BEGIN:DAYLIGHT
DTSTART;VALUE=DATE-TIME:20240331T030000
TZNAME:CEST
TZOFFSETFROM:+0100
TZOFFSETTO:+0200
END:DAYLIGHT
END:VTIMEZONE
END:VCALENDAR
