BEGIN:VCALENDAR
VERSION:2.0
PRODID:-//Plone.org//NONSGML plone.app.event//EN
X-WR-TIMEZONE:Europe/Madrid
BEGIN:VEVENT
SUMMARY:ENTRADAS agotadas: Berto Romero LO NUNCA VISTO
DTSTART;TZID=Europe/Madrid;VALUE=DATE-TIME:20240113T203000
DTEND;TZID=Europe/Madrid;VALUE=DATE-TIME:20240113T220000
DTSTAMP;VALUE=DATE-TIME:20260423T152819Z
UID:e47a1bf179f6403686c6f881dc90d216@www.paeria.cat
CREATED;VALUE=DATE-TIME:20240110T125214Z
LAST-MODIFIED;VALUE=DATE-TIME:20240110T131812Z
URL:https://www.paeria.cat/es/actualidad/agenda/entradas-agotadas-berto-ro
 mero-lo-nunca-visto
END:VEVENT
BEGIN:VTIMEZONE
TZID:Europe/Madrid
X-LIC-LOCATION:Europe/Madrid
BEGIN:STANDARD
DTSTART;VALUE=DATE-TIME:20231029T020000
TZNAME:CET
TZOFFSETFROM:+0200
TZOFFSETTO:+0100
END:STANDARD
END:VTIMEZONE
END:VCALENDAR
