BEGIN:VCALENDAR
VERSION:2.0
PRODID:-//Plone.org//NONSGML plone.app.event//EN
X-WR-TIMEZONE:Europe/Madrid
BEGIN:VEVENT
SUMMARY:ENTRADAS AGOTADAS  Músicas para un nuevo mundo con la Orquesta Si
 nfónica del Gran Teatre del Liceu. Con Feliu Gasull y Silvia Pérez Cruz
DTSTART;TZID=Europe/Madrid;VALUE=DATE-TIME:20230616T200000
DTEND;TZID=Europe/Madrid;VALUE=DATE-TIME:20230616T220000
DTSTAMP;VALUE=DATE-TIME:20260422T154435Z
UID:6fae6065246442248e2e1591750e90ce@www.paeria.cat
CATEGORIES:Cultura,Público,Música
CREATED;VALUE=DATE-TIME:20230614T113840Z
LAST-MODIFIED;VALUE=DATE-TIME:20250516T101646Z
URL:https://www.paeria.cat/es/actualidad/agenda/entradas-agotadas-musicas-
 para-un-nuevo-mundo-con-la-orquesta-sinfonica-del-gran-teatre-del-liceu-co
 n-feliu-gasull-y-silvia-perez-cruz
END:VEVENT
BEGIN:VTIMEZONE
TZID:Europe/Madrid
X-LIC-LOCATION:Europe/Madrid
BEGIN:DAYLIGHT
DTSTART;VALUE=DATE-TIME:20230326T030000
TZNAME:CEST
TZOFFSETFROM:+0100
TZOFFSETTO:+0200
END:DAYLIGHT
END:VTIMEZONE
END:VCALENDAR
