BEGIN:VCALENDAR
VERSION:2.0
PRODID:-//Plone.org//NONSGML plone.app.event//EN
X-WR-TIMEZONE:Europe/Madrid
BEGIN:VEVENT
SUMMARY:ESCORXADIJOUS. LO FAUNAL. Pol Jiménez
DTSTART;TZID=Europe/Madrid;VALUE=DATE-TIME:20230112T210000
DTEND;TZID=Europe/Madrid;VALUE=DATE-TIME:20230112T220000
DTSTAMP;VALUE=DATE-TIME:20260422T215200Z
UID:da8514be589d47af9d0e142b090ff79e@www.paeria.cat
CATEGORIES:Teatro,Cultura,Danza
CREATED;VALUE=DATE-TIME:20221230T105247Z
DESCRIPTION:Un ejemplo definitivo de la danza que reinventa.
LAST-MODIFIED;VALUE=DATE-TIME:20260415T085840Z
URL:https://www.paeria.cat/es/actualidad/agenda/escorxadijous-lo-faunal-po
 l-jimenez
END:VEVENT
BEGIN:VTIMEZONE
TZID:Europe/Madrid
X-LIC-LOCATION:Europe/Madrid
BEGIN:STANDARD
DTSTART;VALUE=DATE-TIME:20221030T020000
TZNAME:CET
TZOFFSETFROM:+0200
TZOFFSETTO:+0100
END:STANDARD
END:VTIMEZONE
END:VCALENDAR
