BEGIN:VCALENDAR
VERSION:2.0
PRODID:-//Plone.org//NONSGML plone.app.event//EN
X-WR-TIMEZONE:Europe/Madrid
BEGIN:VEVENT
SUMMARY:Espacio salud. Actívate en el Casal 2022-2023
DTSTART;VALUE=DATE:20230208
DTEND;VALUE=DATE:20230209
DTSTAMP;VALUE=DATE-TIME:20260423T020835Z
UID:c28addb4830f4bb3826def2293486e38@www.paeria.cat
CATEGORIES:Mujer,Charlas y conferencias,Salud
CREATED;VALUE=DATE-TIME:20221214T140247Z
DESCRIPTION:Charlas sobre salud para el bienestar de las mujeres con persp
 ectiva de género: prevención\, detección\, técnicas\, recursos\, servi
 cios sanitarios de atención y recuperación.
LAST-MODIFIED;VALUE=DATE-TIME:20250514T114823Z
URL:https://www.paeria.cat/es/actualidad/agenda/espacio-salud-activate-en-
 el-casal-2022-2023/2023-02-08
END:VEVENT
END:VCALENDAR
