BEGIN:VCALENDAR
VERSION:2.0
PRODID:-//Plone.org//NONSGML plone.app.event//EN
X-WR-TIMEZONE:Europe/Madrid
BEGIN:VEVENT
SUMMARY:Espectáculo musico-poético- Afuera el Mundo
DTSTART;TZID=Europe/Madrid;VALUE=DATE-TIME:20241027T200000
DTSTAMP;VALUE=DATE-TIME:20260422T230829Z
UID:e3673971c47a44e8b6ef7d73798a6b8c@www.paeria.cat
CATEGORIES:Cultura,Música
CREATED;VALUE=DATE-TIME:20241021T075808Z
LAST-MODIFIED;VALUE=DATE-TIME:20251105T073521Z
URL:https://www.paeria.cat/es/actualidad/agenda/espectaculo-musico-poetico
 -afuera-el-mundo
END:VEVENT
BEGIN:VTIMEZONE
TZID:Europe/Madrid
X-LIC-LOCATION:Europe/Madrid
BEGIN:STANDARD
DTSTART;VALUE=DATE-TIME:20241027T020000
TZNAME:CET
TZOFFSETFROM:+0200
TZOFFSETTO:+0100
END:STANDARD
END:VTIMEZONE
END:VCALENDAR
