BEGIN:VCALENDAR
VERSION:2.0
PRODID:-//Plone.org//NONSGML plone.app.event//EN
X-WR-TIMEZONE:Europe/Madrid
BEGIN:VEVENT
SUMMARY:Exposición "1923-2023 Cien años de la Federació Catalana de Bas
 quetbol"
DTSTART;VALUE=DATE:20230905
DTEND;VALUE=DATE:20231002
DTSTAMP;VALUE=DATE-TIME:20260422T190801Z
UID:4508ca6d53c8420a9c23c4cef6991429@www.paeria.cat
CATEGORIES:Todos los públicos,Cultura,Exposiciones,Ciudadanía,Deportes
CREATED;VALUE=DATE-TIME:20230904T103703Z
DESCRIPTION:Muestra conmemorativa que ofrece un recorrido por la historia 
 del baloncesto en Cataluña
LAST-MODIFIED;VALUE=DATE-TIME:20251105T073047Z
URL:https://www.paeria.cat/es/actualidad/agenda/exposicion-1923-2023-cien-
 anos-de-la-federacion-catalana-de-baloncesto
END:VEVENT
END:VCALENDAR
