BEGIN:VCALENDAR
VERSION:2.0
PRODID:-//Plone.org//NONSGML plone.app.event//EN
X-WR-TIMEZONE:Europe/Madrid
BEGIN:VEVENT
SUMMARY:Exposición- Absurda\, desconcierto y carcome. Cinco personajes au
 ténticos de Ascensión G. Lorenzo
DTSTART;VALUE=DATE:20240726
DTEND;VALUE=DATE:20240923
DTSTAMP;VALUE=DATE-TIME:20260423T022947Z
UID:92c33a484e98447da74c99894dabce53@www.paeria.cat
CATEGORIES:Exposiciones,Cultura
CREATED;VALUE=DATE-TIME:20240712T105926Z
LAST-MODIFIED;VALUE=DATE-TIME:20240712T105934Z
URL:https://www.paeria.cat/es/actualidad/agenda/exposicion-absurda-desconc
 ierto-y-carcome-cinco-personajes-autenticos-de-ascension-g-lorenzo
END:VEVENT
END:VCALENDAR
