BEGIN:VCALENDAR
VERSION:2.0
PRODID:-//Plone.org//NONSGML plone.app.event//EN
X-WR-TIMEZONE:Europe/Madrid
BEGIN:VEVENT
SUMMARY:Exposición "Artsakh: rostros de una limpieza étnica"
DTSTART;TZID=Europe/Madrid;VALUE=DATE-TIME:20260424T193000
DTEND;TZID=Europe/Madrid;VALUE=DATE-TIME:20260424T203000
DTSTAMP;VALUE=DATE-TIME:20260423T022650Z
UID:9f0a8dd4f0ce44c897d7a7940514e081@www.paeria.cat
CATEGORIES:Charlas y conferencias,Exposiciones,Todos los públicos
CREATED;VALUE=DATE-TIME:20260408T131648Z
DESCRIPTION:Inauguración de la exposición "Artsakh: rostros de una limpi
 eza étnica" del fotógrafo Andreu Fernández Garcia con visita comentada\
 ; y ponencia de Abel Riu\, politólogo especializado en Rusia\, Ucrania y 
 Cáucaso Sur. Con el acompañamiento de Sarkis Hakobyan\, presidente de la
  Asociación de Armenia en Cataluña - Ararat\, y Astghik Galstyan\, repre
 sentante Armenia de Lleida. Viernes 24 de abril a las 19:30h en EAM Leandr
 e Cristòfol (C/La Palma\, 2).
LAST-MODIFIED;VALUE=DATE-TIME:20260408T131713Z
URL:https://www.paeria.cat/es/actualidad/agenda/exposicion-artsakh-rostros
 -de-una-limpieza-etnica
END:VEVENT
BEGIN:VTIMEZONE
TZID:Europe/Madrid
X-LIC-LOCATION:Europe/Madrid
BEGIN:DAYLIGHT
DTSTART;VALUE=DATE-TIME:20260329T030000
TZNAME:CEST
TZOFFSETFROM:+0100
TZOFFSETTO:+0200
END:DAYLIGHT
END:VTIMEZONE
END:VCALENDAR
