BEGIN:VCALENDAR
VERSION:2.0
PRODID:-//Plone.org//NONSGML plone.app.event//EN
X-WR-TIMEZONE:Europe/Madrid
BEGIN:VEVENT
SUMMARY:Exposición: CACAUETES EN LA CABEZA
DTSTART;TZID=Europe/Madrid;VALUE=DATE-TIME:20260116T120000
DTEND;TZID=Europe/Madrid;VALUE=DATE-TIME:20260227T140000
DTSTAMP;VALUE=DATE-TIME:20260424T085823Z
UID:b170193ce7044cb38d68b00c35ed9f61@www.paeria.cat
CATEGORIES:Exposiciones,Arte
CREATED;VALUE=DATE-TIME:20260116T112907Z
DESCRIPTION:Exposición del artista leridano Ignasi Palacios.
LAST-MODIFIED;VALUE=DATE-TIME:20260202T101041Z
URL:https://www.paeria.cat/es/actualidad/agenda/exposicion-cacauetes-en-la
 -cabeza
END:VEVENT
BEGIN:VTIMEZONE
TZID:Europe/Madrid
X-LIC-LOCATION:Europe/Madrid
BEGIN:STANDARD
DTSTART;VALUE=DATE-TIME:20251026T020000
TZNAME:CET
TZOFFSETFROM:+0200
TZOFFSETTO:+0100
END:STANDARD
END:VTIMEZONE
END:VCALENDAR
