BEGIN:VCALENDAR
VERSION:2.0
PRODID:-//Plone.org//NONSGML plone.app.event//EN
X-WR-TIMEZONE:Europe/Madrid
BEGIN:VEVENT
SUMMARY:Exposición colectiva- Dona i Terra
DTSTART;VALUE=DATE:20240309
DTEND;VALUE=DATE:20240414
DTSTAMP;VALUE=DATE-TIME:20260422T135631Z
UID:b42061b088b3491c83898c6268267e72@www.paeria.cat
CATEGORIES:Exposiciones,Cultura
CREATED;VALUE=DATE-TIME:20240227T093454Z
LAST-MODIFIED;VALUE=DATE-TIME:20240301T100828Z
URL:https://www.paeria.cat/es/actualidad/agenda/exposicion-colectiva-dona-
 i-terra
END:VEVENT
END:VCALENDAR
