BEGIN:VCALENDAR
VERSION:2.0
PRODID:-//Plone.org//NONSGML plone.app.event//EN
X-WR-TIMEZONE:Europe/Madrid
BEGIN:VEVENT
SUMMARY:Exposición Colectiva "GARDENY Y LOS TEMPLARIOS"
DTSTART;TZID=Europe/Madrid;VALUE=DATE-TIME:20250402T110000
DTEND;TZID=Europe/Madrid;VALUE=DATE-TIME:20250531T170000
DTSTAMP;VALUE=DATE-TIME:20260422T200057Z
UID:355ebeb00cce48a3ba96ab2bc385db15@www.paeria.cat
CATEGORIES:Exposiciones,Todos los públicos
CREATED;VALUE=DATE-TIME:20250402T100915Z
DESCRIPTION:Exposición colectiva y monográfica de pintura y poesía sobr
 e Gardeny.
LAST-MODIFIED;VALUE=DATE-TIME:20250422T075236Z
URL:https://www.paeria.cat/es/actualidad/agenda/exposicion-colectiva-garde
 ny-y-los-templero
END:VEVENT
BEGIN:VTIMEZONE
TZID:Europe/Madrid
X-LIC-LOCATION:Europe/Madrid
BEGIN:DAYLIGHT
DTSTART;VALUE=DATE-TIME:20250330T030000
TZNAME:CEST
TZOFFSETFROM:+0100
TZOFFSETTO:+0200
END:DAYLIGHT
END:VTIMEZONE
END:VCALENDAR
