BEGIN:VCALENDAR
VERSION:2.0
PRODID:-//Plone.org//NONSGML plone.app.event//EN
X-WR-TIMEZONE:Europe/Madrid
BEGIN:VEVENT
SUMMARY:Exposición- Contra las reglas: personas LGTBIQ+ en el deporte
DTSTART;VALUE=DATE:20240311
DTEND;VALUE=DATE:20240325
DTSTAMP;VALUE=DATE-TIME:20260422T170530Z
UID:3f19e97c24554b518ece411e9a679ef1@www.paeria.cat
CATEGORIES:Exposiciones,Cultura
CREATED;VALUE=DATE-TIME:20240310T124940Z
LAST-MODIFIED;VALUE=DATE-TIME:20240318T082907Z
URL:https://www.paeria.cat/es/actualidad/agenda/exposicion-contra-las-regl
 as-personas-lgtbiq-en-el-deporte
END:VEVENT
END:VCALENDAR
