BEGIN:VCALENDAR
VERSION:2.0
PRODID:-//Plone.org//NONSGML plone.app.event//EN
X-WR-TIMEZONE:Europe/Madrid
BEGIN:VEVENT
SUMMARY:Exposición "Derechos Humanos de lo Local a lo Global. Lleida 2019
 -2022"
DTSTART;TZID=Europe/Madrid;VALUE=DATE-TIME:20240109T140000
DTEND;TZID=Europe/Madrid;VALUE=DATE-TIME:20240202T110000
DTSTAMP;VALUE=DATE-TIME:20260422T183702Z
UID:e17a7cfe100a4d20ab02d39022fec0fa@www.paeria.cat
CATEGORIES:Exposiciones
CREATED;VALUE=DATE-TIME:20240109T134817Z
DESCRIPTION:Una recopilación de todas las acciones emprendidas desde la C
 oncejalía de Cooperación Internacional\, tanto en cooperación en todo e
 l mundo como en sensibilización directa a la ciudadanía\; o bien a trav
 és de la convocatoria de concurrencia competitiva con las entidades solid
 arias locales. Estará expuesta desde hoy 9 de enero hasta el 2 de febrero
 \, en el Centro Cívico del Secano de Sant Pere.
LAST-MODIFIED;VALUE=DATE-TIME:20250514T114738Z
URL:https://www.paeria.cat/es/actualidad/agenda/exposicion-derechos-humano
 s-de-lo-local-a-lo-global-lleida-2019-2022-1
END:VEVENT
BEGIN:VTIMEZONE
TZID:Europe/Madrid
X-LIC-LOCATION:Europe/Madrid
BEGIN:STANDARD
DTSTART;VALUE=DATE-TIME:20231029T020000
TZNAME:CET
TZOFFSETFROM:+0200
TZOFFSETTO:+0100
END:STANDARD
END:VTIMEZONE
END:VCALENDAR
