BEGIN:VCALENDAR
VERSION:2.0
PRODID:-//Plone.org//NONSGML plone.app.event//EN
X-WR-TIMEZONE:Europe/Madrid
BEGIN:VEVENT
SUMMARY:Exposición: "Derechos Humanos de lo Local a lo Global. Lleida 201
 9-2022"
DTSTART;TZID=Europe/Madrid;VALUE=DATE-TIME:20231122T100000
DTEND;TZID=Europe/Madrid;VALUE=DATE-TIME:20231219T110000
DTSTAMP;VALUE=DATE-TIME:20260423T091256Z
UID:041c86928bda4180a5a8fdd2e40f4d4d@www.paeria.cat
CATEGORIES:Jóvenes,Ciudadanía,Todos los públicos,Exposiciones
CREATED;VALUE=DATE-TIME:20231002T085006Z
DESCRIPTION:Recopilación de todas las acciones directamente implementadas
  desde la Concejalía de Cooperación y de los proyectos que han realizado
  las entidades solidarias locales y que han sido subvencionados desde el A
 yuntamiento de Lleida desde el año 2019 hasta el año 2022. Exposición e
 n el Hall del Centro Cívico de la Ereta del 25 de septiembre al 23 de oct
 ubre.
LAST-MODIFIED;VALUE=DATE-TIME:20250514T114703Z
URL:https://www.paeria.cat/es/actualidad/agenda/exposicion-derechos-humano
 s-de-lo-local-a-lo-global-lleida-2019-2022
END:VEVENT
BEGIN:VTIMEZONE
TZID:Europe/Madrid
X-LIC-LOCATION:Europe/Madrid
BEGIN:STANDARD
DTSTART;VALUE=DATE-TIME:20231029T020000
TZNAME:CET
TZOFFSETFROM:+0200
TZOFFSETTO:+0100
END:STANDARD
END:VTIMEZONE
END:VCALENDAR
