BEGIN:VCALENDAR
VERSION:2.0
PRODID:-//Plone.org//NONSGML plone.app.event//EN
X-WR-TIMEZONE:Europe/Madrid
BEGIN:VEVENT
SUMMARY:Exposición fotográfica de Fina Cabiscol y Rosa Querol
DTSTART;VALUE=DATE:20241210
DTEND;VALUE=DATE:20250108
DTSTAMP;VALUE=DATE-TIME:20260423T125232Z
UID:62e9de2e88a04085ace707dde74d53dc@www.paeria.cat
CATEGORIES:Exposiciones,Cultura
CREATED;VALUE=DATE-TIME:20241210T153606Z
LAST-MODIFIED;VALUE=DATE-TIME:20241210T153615Z
URL:https://www.paeria.cat/es/actualidad/agenda/exposicion-fotografica-de-
 fina-cabiscol-y-rosa-querol
END:VEVENT
END:VCALENDAR
