BEGIN:VCALENDAR
VERSION:2.0
PRODID:-//Plone.org//NONSGML plone.app.event//EN
X-WR-TIMEZONE:Europe/Madrid
BEGIN:VEVENT
SUMMARY:Exposición fotográfica- Marionetas
DTSTART;VALUE=DATE:20240906
DTEND;VALUE=DATE:20240928
DTSTAMP;VALUE=DATE-TIME:20260420T052602Z
UID:1a7381552beb48c8854eb569b162c6d6@www.paeria.cat
CATEGORIES:Exposiciones,Cultura
CREATED;VALUE=DATE-TIME:20240903T101818Z
LAST-MODIFIED;VALUE=DATE-TIME:20240903T101828Z
URL:https://www.paeria.cat/es/actualidad/agenda/exposicion-fotografica-mar
 ionetas
END:VEVENT
END:VCALENDAR
