BEGIN:VCALENDAR
VERSION:2.0
PRODID:-//Plone.org//NONSGML plone.app.event//EN
X-WR-TIMEZONE:Europe/Madrid
BEGIN:VEVENT
SUMMARY:Exposición fotográfica- Retratos\, Relatos y Rincones. Memorias 
 de barrio: La Mariola\, Turó de Gardeny y Blogs Juan Carlos
DTSTART;VALUE=DATE:20240430
DTEND;VALUE=DATE:20240618
DTSTAMP;VALUE=DATE-TIME:20260423T060241Z
UID:c9b462b6212b4fd08602609d9689af98@www.paeria.cat
CATEGORIES:Exposiciones,Cultura
CREATED;VALUE=DATE-TIME:20240430T070918Z
LAST-MODIFIED;VALUE=DATE-TIME:20240430T070926Z
URL:https://www.paeria.cat/es/actualidad/agenda/exposicion-fotografica-ret
 ratos-relatos-y-rincones-memorias-de-barrio-la-mariola-turo-de-gardeny-y-b
 logs-juan-carlos
END:VEVENT
END:VCALENDAR
