BEGIN:VCALENDAR
VERSION:2.0
PRODID:-//Plone.org//NONSGML plone.app.event//EN
X-WR-TIMEZONE:Europe/Madrid
BEGIN:VEVENT
SUMMARY:Exposición- Hablar está en tus manos. Lengua de Signos Catalana
DTSTART;VALUE=DATE:20240410
DTEND;VALUE=DATE:20240616
DTSTAMP;VALUE=DATE-TIME:20260422T185924Z
UID:e200f10220e44c7e9e8f8f9e9e0762ab@www.paeria.cat
CATEGORIES:Exposiciones,Cultura
CREATED;VALUE=DATE-TIME:20240326T172527Z
LAST-MODIFIED;VALUE=DATE-TIME:20240326T172537Z
URL:https://www.paeria.cat/es/actualidad/agenda/exposicion-hablar-esta-en-
 tus-manos-lengua-de-signos-catalana
END:VEVENT
END:VCALENDAR
