BEGIN:VCALENDAR
VERSION:2.0
PRODID:-//Plone.org//NONSGML plone.app.event//EN
X-WR-TIMEZONE:Europe/Madrid
BEGIN:VEVENT
SUMMARY:Exposición- Muestra de los 10 años del Premio de fotografía fem
 inista Leonor Pedrico Serradell y X edición Mujeres y fotoperiodismo
DTSTART;VALUE=DATE:20241002
DTEND;VALUE=DATE:20241027
DTSTAMP;VALUE=DATE-TIME:20260423T030148Z
UID:eb117a38bf6e4ab4af16a67b3d177d68@www.paeria.cat
CATEGORIES:Exposiciones,Cultura
CREATED;VALUE=DATE-TIME:20241001T044139Z
LAST-MODIFIED;VALUE=DATE-TIME:20241001T044145Z
URL:https://www.paeria.cat/es/actualidad/agenda/exposicion-muestra-de-los-
 10-anos-del-premio-de-fotografia-feminista-leonor-pedrico-serradell-y-x-ed
 icion-mujeres-y-fotoperiodismo
END:VEVENT
END:VCALENDAR
