BEGIN:VCALENDAR
VERSION:2.0
PRODID:-//Plone.org//NONSGML plone.app.event//EN
X-WR-TIMEZONE:Europe/Madrid
BEGIN:VEVENT
SUMMARY:Exposición- Premio Internacional de Bellas Artes Sant Jordi_ Pint
 ura_ 19a edición
DTSTART;VALUE=DATE:20240724
DTEND;VALUE=DATE:20240909
DTSTAMP;VALUE=DATE-TIME:20260422T185841Z
UID:a3931e3510a440ffbf48190b85882c0f@www.paeria.cat
CATEGORIES:Exposiciones,Arte,Cultura
CREATED;VALUE=DATE-TIME:20240724T183107Z
LAST-MODIFIED;VALUE=DATE-TIME:20240724T183111Z
URL:https://www.paeria.cat/es/actualidad/agenda/exposicion-premio-internac
 ional-de-bellas-artes-sant-jordi_-pintura_-19a-edicion
END:VEVENT
END:VCALENDAR
